
BEGIN:VCALENDAR
VERSION:2.0
PRODID:-//SP Bezirk Brugg - ECPv6.15.11//NONSGML v1.0//EN
CALSCALE:GREGORIAN
METHOD:PUBLISH
X-ORIGINAL-URL:https://sp-bezirk-brugg.ch
X-WR-CALDESC:Veranstaltungen im SP Bezirk Brugg
REFRESH-INTERVAL;VALUE=DURATION:PT1H
X-Robots-Tag:noindex
X-PUBLISHED-TTL:PT1H
BEGIN:VTIMEZONE
TZID:Europe/Zurich
BEGIN:DAYLIGHT
TZOFFSETFROM:+0100
TZOFFSETTO:+0200
TZNAME:CEST
DTSTART:20250330T010000
END:DAYLIGHT
BEGIN:STANDARD
TZOFFSETFROM:+0200
TZOFFSETTO:+0100
TZNAME:CET
DTSTART:20251026T010000
END:STANDARD
BEGIN:DAYLIGHT
TZOFFSETFROM:+0100
TZOFFSETTO:+0200
TZNAME:CEST
DTSTART:20260329T010000
END:DAYLIGHT
BEGIN:STANDARD
TZOFFSETFROM:+0200
TZOFFSETTO:+0100
TZNAME:CET
DTSTART:20261025T010000
END:STANDARD
BEGIN:DAYLIGHT
TZOFFSETFROM:+0100
TZOFFSETTO:+0200
TZNAME:CEST
DTSTART:20270328T010000
END:DAYLIGHT
BEGIN:STANDARD
TZOFFSETFROM:+0200
TZOFFSETTO:+0100
TZNAME:CET
DTSTART:20271031T010000
END:STANDARD
END:VTIMEZONE
BEGIN:VEVENT
DTSTART;TZID=Europe/Zurich:20260501T171500
DTEND;TZID=Europe/Zurich:20260501T200000
DTSTAMP:20260422T065832
CREATED:20260329T230628Z
LAST-MODIFIED:20260329T230628Z
UID:10000079-1777655700-1777665600@sp-bezirk-brugg.ch
SUMMARY:1. Mai-Anlass
DESCRIPTION:
URL:https://sp-bezirk-brugg.ch/veranstaltung/1-mai-anlass/
LOCATION:Neumarktplatz\, Neumarktplatz 1\, Brugg\, 5200\, Switzerland
END:VEVENT
BEGIN:VEVENT
DTSTART;TZID=Europe/Zurich:20260521T193000
DTEND;TZID=Europe/Zurich:20260521T210000
DTSTAMP:20260422T065832
CREATED:20260329T225614Z
LAST-MODIFIED:20260329T225614Z
UID:10000073-1779391800-1779397200@sp-bezirk-brugg.ch
SUMMARY:SP-Stammtisch
DESCRIPTION:
URL:https://sp-bezirk-brugg.ch/veranstaltung/sp-stammtisch-7/2026-05-21/
LOCATION:ODEONbar\, Bahnhofplatz 11\, Brugg\, AG\, 5200
END:VEVENT
BEGIN:VEVENT
DTSTART;TZID=Europe/Zurich:20260618T193000
DTEND;TZID=Europe/Zurich:20260618T210000
DTSTAMP:20260422T065832
CREATED:20260329T225614Z
LAST-MODIFIED:20260329T225614Z
UID:10000074-1781811000-1781816400@sp-bezirk-brugg.ch
SUMMARY:SP-Stammtisch
DESCRIPTION:
URL:https://sp-bezirk-brugg.ch/veranstaltung/sp-stammtisch-7/2026-06-18/
LOCATION:ODEONbar\, Bahnhofplatz 11\, Brugg\, AG\, 5200
END:VEVENT
BEGIN:VEVENT
DTSTART;TZID=Europe/Zurich:20260917T193000
DTEND;TZID=Europe/Zurich:20260917T210000
DTSTAMP:20260422T065832
CREATED:20260329T225614Z
LAST-MODIFIED:20260329T225614Z
UID:10000075-1789673400-1789678800@sp-bezirk-brugg.ch
SUMMARY:SP-Stammtisch
DESCRIPTION:
URL:https://sp-bezirk-brugg.ch/veranstaltung/sp-stammtisch-7/2026-09-17/
LOCATION:ODEONbar\, Bahnhofplatz 11\, Brugg\, AG\, 5200
END:VEVENT
BEGIN:VEVENT
DTSTART;TZID=Europe/Zurich:20261015T193000
DTEND;TZID=Europe/Zurich:20261015T210000
DTSTAMP:20260422T065832
CREATED:20260329T225614Z
LAST-MODIFIED:20260329T225614Z
UID:10000076-1792092600-1792098000@sp-bezirk-brugg.ch
SUMMARY:SP-Stammtisch
DESCRIPTION:
URL:https://sp-bezirk-brugg.ch/veranstaltung/sp-stammtisch-7/2026-10-15/
LOCATION:ODEONbar\, Bahnhofplatz 11\, Brugg\, AG\, 5200
END:VEVENT
BEGIN:VEVENT
DTSTART;TZID=Europe/Zurich:20261119T193000
DTEND;TZID=Europe/Zurich:20261119T210000
DTSTAMP:20260422T065832
CREATED:20260329T225614Z
LAST-MODIFIED:20260329T225614Z
UID:10000077-1795116600-1795122000@sp-bezirk-brugg.ch
SUMMARY:SP-Stammtisch
DESCRIPTION:
URL:https://sp-bezirk-brugg.ch/veranstaltung/sp-stammtisch-7/2026-11-19/
LOCATION:ODEONbar\, Bahnhofplatz 11\, Brugg\, AG\, 5200
END:VEVENT
BEGIN:VEVENT
DTSTART;TZID=Europe/Zurich:20261217T193000
DTEND;TZID=Europe/Zurich:20261217T210000
DTSTAMP:20260422T065832
CREATED:20260329T225614Z
LAST-MODIFIED:20260329T225614Z
UID:10000078-1797535800-1797541200@sp-bezirk-brugg.ch
SUMMARY:SP-Stammtisch
DESCRIPTION:
URL:https://sp-bezirk-brugg.ch/veranstaltung/sp-stammtisch-7/2026-12-17/
LOCATION:ODEONbar\, Bahnhofplatz 11\, Brugg\, AG\, 5200
END:VEVENT
END:VCALENDAR